BEGIN:VCALENDAR
VERSION:2.0
PRODID:-//eventon.com NONSGML v1.0//EN
CALSCALE:GREGORIAN
METHOD:PUBLISH
BEGIN:VEVENT
UID:69e8fe3e59844
DTSTAMP:20260422T165838Z
DTSTART:20231101T220000Z
DTEND:20231231T160000Z
LOCATION:
SUMMARY:Christmas Tree Display - Christmas through the ages
DESCRIPTION:Christmas Tree Display - Christmas through the ages\nhttps://le
 compton.org/events/christmas-tree-display-christmas-through-the-ages/
URL:https://lecompton.org/events/christmas-tree-display-christmas-through-the-ages/
END:VEVENT
END:VCALENDAR