BEGIN:VCALENDAR
VERSION:2.0
PRODID:-//eventon.com NONSGML v1.0//EN
CALSCALE:GREGORIAN
METHOD:PUBLISH
BEGIN:VEVENT
UID:69ec195eea3f7
DTSTAMP:20260425T013110Z
DTSTART:20241128T000000Z
DTEND:20241129T235900Z
LOCATION:
SUMMARY:Thanksgiving Closure
DESCRIPTION:City office will be closed in observance of the Thanksgiving Ho
 liday. Offices will be closed Thursday and Friday. Regular offices hours wi
 ll resume Monday at 8:30a\nhttps://lecompton.org/events/thanksgiving-closur
 e/
URL:https://lecompton.org/events/thanksgiving-closure/
END:VEVENT
END:VCALENDAR