BEGIN:VCALENDAR
VERSION:2.0
PRODID:-//eventon.com NONSGML v1.0//EN
CALSCALE:GREGORIAN
METHOD:PUBLISH
BEGIN:VEVENT
UID:69ec3a926a608
DTSTAMP:20260425T035250Z
DTSTART:20240218T140000Z
DTEND:20240218T150000Z
LOCATION:
SUMMARY:"A Monopoly of Misfortune" Bleeding Kansas Lecture Series
DESCRIPTION:\nhttps://lecompton.org/events/a-monopoly-of-misfortune-bleedin
 g-kansas-lecture-series/
URL:https://lecompton.org/events/a-monopoly-of-misfortune-bleeding-kansas-lecture-series/
END:VEVENT
END:VCALENDAR