BEGIN:VCALENDAR
VERSION:2.0
PRODID:-//eventon.com NONSGML v1.0//EN
CALSCALE:GREGORIAN
METHOD:PUBLISH
BEGIN:VEVENT
UID:69eba0ab1e80f
DTSTAMP:20260424T165611Z
DTSTART:20240603T190000Z
DTEND:20240603T193000Z
LOCATION:
SUMMARY:City Council Meeting 6/3/2024
DESCRIPTION:City Council Meetings are held the 1st and 3rd Mondays of the m
 onth unless the meeting date falls on a holiday. Then the meeting will be t
 he very next day (Tuesday) Meetings start at 7pm at the City Council Chambe
 rs in City Hall - 327 Elmore   Lecompton\,  KS 66050\nhttps://lecompton.o
 rg/events/city-council-meeting-6-3-2024/
URL:https://lecompton.org/events/city-council-meeting-6-3-2024/
END:VEVENT
END:VCALENDAR