BEGIN:VCALENDAR
VERSION:2.0
PRODID:-//eventon.com NONSGML v1.0//EN
CALSCALE:GREGORIAN
METHOD:PUBLISH
BEGIN:VEVENT
UID:69e8fea698f4d
DTSTAMP:20260422T170022Z
DTSTART:20251101T220000Z
DTEND:20260104T160000Z
LOCATION:
SUMMARY:Christmas Tree Display @ Territorial Capital Museum
DESCRIPTION:“Christmas Through the Ages” Christmas tree display will be
  at the Territorial Capital Museum in Historic Lecompton\,  Kansas. Over 24
 0 Christmas trees will be decorated in Victorian\,  antique\,  themed and v
 intage ornaments and accessories. Trees are displayed in every room and in 
 hallways on each of the three floors in[..]\nhttps://lecompton.org/events/c
 hristmas-tree-display-territorial-capital-museum/
URL:https://lecompton.org/events/christmas-tree-display-territorial-capital-museum/
END:VEVENT
END:VCALENDAR