BEGIN:VCALENDAR
VERSION:2.0
PRODID:-//eventon.com NONSGML v1.0//EN
CALSCALE:GREGORIAN
METHOD:PUBLISH
BEGIN:VEVENT
UID:69ed2911320cd
DTSTAMP:20260425T205025Z
DTSTART:20251124T183000Z
DTEND:20251124T193000Z
LOCATION:
SUMMARY:Lecompton Community EMPOWERMENT Meeting
DESCRIPTION:Lecompton Community EMPOWERMENT Meetings are being held at 620 
 E. Woodson (former H/S building) on the 4th Monday of the Month at 6:30pm L
 ecompton Community Empowerment Facebook\nhttps://lecompton.org/events/lecom
 pton-community-pride-meeting/
URL:https://lecompton.org/events/lecompton-community-pride-meeting/
END:VEVENT
END:VCALENDAR